BEGIN:VCALENDAR
VERSION:2.0
METHOD:PUBLISH
PRODID:-//Accessible Web Design//My Calendar//http://www.joedolson.com//v//EN';
BEGIN:VEVENT
UID:8-8
LOCATION:
SUMMARY:End-of-Term Break (Students &amp; Teachers)
DTSTAMP:20230402T000000
ORGANIZER;CN=alrawabi:MAILTO:ictc.alrawabi@gmail.com
DTSTART:20230402T000000
DTEND:20230406T010000
CATEGORIES:General
URL;VALUE=URI:
DESCRIPTION;ENCODING=QUOTED-PRINTABLE:End-of-Term Break (Students &amp; Teachers) 
END:VEVENT
END:VCALENDAR