BEGIN:VCALENDAR
VERSION:2.0
METHOD:PUBLISH
PRODID:-//Accessible Web Design//My Calendar//http://www.joedolson.com//v//EN';
BEGIN:VEVENT
UID:7-7
LOCATION:
SUMMARY:Term 2 Exams: Grade 6-12
DTSTAMP:20230319T000000
ORGANIZER;CN=alrawabi:MAILTO:ictc.alrawabi@gmail.com
DTSTART:20230319T000000
DTEND:20230330T010000
CATEGORIES:General
URL;VALUE=URI:
DESCRIPTION;ENCODING=QUOTED-PRINTABLE:Term 2 Exams: Grade 6-12March 19-30 
END:VEVENT
END:VCALENDAR