BEGIN:VCALENDAR
VERSION:2.0
METHOD:PUBLISH
PRODID:-//Accessible Web Design//My Calendar//http://www.joedolson.com//v//EN';
BEGIN:VEVENT
UID:4-4
LOCATION:
SUMMARY:Parent/Teacher Meeting KG &amp; Primary
DTSTAMP:20230304T000000
ORGANIZER;CN=alrawabi:MAILTO:ictc.alrawabi@gmail.com
DTSTART:20230304T000000
DTEND:20230304T010000
CATEGORIES:General
URL;VALUE=URI:
DESCRIPTION;ENCODING=QUOTED-PRINTABLE:Parent/Teacher Meeting KG &amp; Primary 
END:VEVENT
END:VCALENDAR