BEGIN:VCALENDAR
VERSION:2.0
METHOD:PUBLISH
PRODID:-//Accessible Web Design//My Calendar//http://www.joedolson.com//v//EN';
BEGIN:VEVENT
UID:30-30
LOCATION:
SUMMARY:First Day of School for KG- Gr 1 &amp; Gr 6
DTSTAMP:20240828T000000
ORGANIZER;CN=alrawabi:MAILTO:ictc.alrawabi@gmail.com
DTSTART:20240828T000000
DTEND:20240828T010000
CATEGORIES:General
URL;VALUE=URI:
DESCRIPTION;ENCODING=QUOTED-PRINTABLE: 
END:VEVENT
END:VCALENDAR