BEGIN:VCALENDAR
VERSION:2.0
METHOD:PUBLISH
PRODID:-//Accessible Web Design//My Calendar//http://www.joedolson.com//v//EN';
BEGIN:VEVENT
UID:27-27
LOCATION:
SUMMARY:Orientation Day (Preschool - Parents only)
DTSTAMP:20240826T000000
ORGANIZER;CN=alrawabi:MAILTO:ictc.alrawabi@gmail.com
DTSTART:20240826T000000
DTEND:20240826T010000
CATEGORIES:General
URL;VALUE=URI:
DESCRIPTION;ENCODING=QUOTED-PRINTABLE: 
END:VEVENT
END:VCALENDAR