BEGIN:VCALENDAR
VERSION:2.0
METHOD:PUBLISH
PRODID:-//Accessible Web Design//My Calendar//http://www.joedolson.com//v//EN';
BEGIN:VEVENT
UID:11-11
LOCATION:
SUMMARY:Eid Al Fitr Holidays
DTSTAMP:20230424T000000
ORGANIZER;CN=alrawabi:MAILTO:ictc.alrawabi@gmail.com
DTSTART:20230424T000000
DTEND:20230425T010000
CATEGORIES:General
URL;VALUE=URI:
DESCRIPTION;ENCODING=QUOTED-PRINTABLE:Eid Al Fitr Holidays 
END:VEVENT
END:VCALENDAR