BEGIN:VCALENDAR
VERSION:2.0
METHOD:PUBLISH
PRODID:-//Accessible Web Design//My Calendar//http://www.joedolson.com//v//EN';
BEGIN:VEVENT
UID:6-6
LOCATION:
SUMMARY:Parent/Teacher Meeting Primary &amp; High School
DTSTAMP:20230304T000000
ORGANIZER;CN=alrawabi:MAILTO:ictc.alrawabi@gmail.com
DTSTART:20230304T000000
DTEND:20230304T010000
CATEGORIES:General
URL;VALUE=URI:
DESCRIPTION;ENCODING=QUOTED-PRINTABLE:Parent/Teacher Meeting Primary &amp; High School 
END:VEVENT
END:VCALENDAR